BEGIN:VCALENDAR
VERSION:2.0
PRODID:-//wp-events-plugin.com//6.6.4.4//EN
TZID:America/Los_Angeles
X-WR-TIMEZONE:America/Los_Angeles
BEGIN:VEVENT
UID:1328@alibialeworks.com
DTSTART;TZID=America/Los_Angeles:20251222T160000
DTEND;TZID=America/Los_Angeles:20251222T210000
DTSTAMP:20251201T011748Z
URL:https://alibialeworks.com/events/monday-night-football-2025-12-22/
SUMMARY:Monday Night Football
DESCRIPTION:Watch every Monday Night Football with us on the big screen and
  get $2 off pints during MNF games!\nCheck here to see exact timings of ea
 ch MNF game:
ATTACH;FMTTYPE=image/jpeg:https://alibialeworks.com/wp-content/uploads/202
 5/09/Alibi-Ale-Works-Truckee-Brewery-Public-House-Sports-Bar-Watch-Monday-
 Night-Football.png
CATEGORIES:Game Night
LOCATION:Alibi Ale Works - Incline Public House\, 931 Tahoe Blvd.\, Incline
  Village\, NV\, 89451\, United States
X-APPLE-STRUCTURED-LOCATION;VALUE=URI;X-ADDRESS=931 Tahoe Blvd.\, Incline V
 illage\, NV\, 89451\, United States;X-APPLE-RADIUS=100;X-TITLE=Alibi Ale W
 orks - Incline Public House:geo:0,0
END:VEVENT
BEGIN:VTIMEZONE
TZID:America/Los_Angeles
X-LIC-LOCATION:America/Los_Angeles
BEGIN:STANDARD
DTSTART:20251102T010000
TZOFFSETFROM:-0700
TZOFFSETTO:-0800
TZNAME:PST
END:STANDARD
END:VTIMEZONE
END:VCALENDAR