BEGIN:VCALENDAR
VERSION:2.0
PRODID:-//wp-events-plugin.com//6.6.4.4//EN
TZID:America/Los_Angeles
X-WR-TIMEZONE:America/Los_Angeles
BEGIN:VEVENT
UID:2524@alibialeworks.com
DTSTART;TZID=America/Los_Angeles:20270115T210000
DTEND;TZID=America/Los_Angeles:20270115T230000
DTSTAMP:20260303T200423Z
URL:https://alibialeworks.com/events/country-monday-2027-01-15/
SUMMARY:Country Fridays: Line Dance Night
DESCRIPTION:\n\n\n\nJoin us every Friday for line dancing and cold beer on 
 the Incline Public House dance floor.\nDust off your best boots and come r
 eady to party!\n\n\n\n
ATTACH;FMTTYPE=image/jpeg:https://alibialeworks.com/wp-content/uploads/202
 5/03/Alibi-Ale-Works-Incline-Public-House-Country-Line-Dancing-Nights-Frid
 ays-with-Kyla-Maya-Stazi.png
CATEGORIES:Line Dancing
LOCATION:Alibi Ale Works - Incline Public House\, 931 Tahoe Blvd.\, Incline
  Village\, NV\, 89451\, United States
X-APPLE-STRUCTURED-LOCATION;VALUE=URI;X-ADDRESS=931 Tahoe Blvd.\, Incline V
 illage\, NV\, 89451\, United States;X-APPLE-RADIUS=100;X-TITLE=Alibi Ale W
 orks - Incline Public House:geo:0,0
END:VEVENT
BEGIN:VTIMEZONE
TZID:America/Los_Angeles
X-LIC-LOCATION:America/Los_Angeles
BEGIN:STANDARD
DTSTART:20261101T010000
TZOFFSETFROM:-0700
TZOFFSETTO:-0800
TZNAME:PST
END:STANDARD
END:VTIMEZONE
END:VCALENDAR